BEGIN:VCALENDAR
VERSION:2.0
PRODID:-//ChamberMaster//Event Calendar 2.0//EN
METHOD:PUBLISH
X-PUBLISHED-TTL:P3D
REFRESH-INTERVAL:P3D
CALSCALE:GREGORIAN
BEGIN:VEVENT
DTSTART:20170406T143000Z
DTEND:20170406T160000Z
X-MICROSOFT-CDO-ALLDAYEVENT:FALSE
SUMMARY:World War I Awareness Program
DESCRIPTION:On April 6\, 2017 the Union County Historical Society will hold an appreciation of awareness program to say "Thank You" to our Union County Schools Social Studies and History students and teachers for their efforts in helping our citizens remain aware of the upcoming 100th Anniversary of America's entry in World War I.\n\nThis program will take place at 10:30am in the Court Room of our Historic Court House Museum on the Square in Blairsville\, Ga.  Our citizens are invited to attend.
X-ALT-DESC;FMTTYPE=text/html:On April 6\, 2017 the Union County Historical Society will hold an appreciation of awareness program to say &quot\;Thank You&quot\; to our Union County Schools Social Studies and History students and teachers for their efforts in helping our citizens remain aware of the upcoming 100th Anniversary of America&#39\;s entry in World War I.<br />\nThis program will take place at 10:30am in the Court Room of&nbsp\;our Historic Court House Museum on the Square in Blairsville\, Ga.&nbsp\; Our citizens are invited to attend.
LOCATION:Old Courthouse on the Square 3 Town Square Blairsville\, Ga. 30512
UID:e.256.69122
SEQUENCE:3
DTSTAMP:20260420T033637Z
URL:https://members.visitblairsvillega.com/events/details/world-war-i-awareness-program-69122
END:VEVENT

END:VCALENDAR
