BEGIN:VCALENDAR
VERSION:2.0
PRODID:-//ChamberMaster//Event Calendar 2.0//EN
METHOD:PUBLISH
X-PUBLISHED-TTL:P3D
REFRESH-INTERVAL:P3D
CALSCALE:GREGORIAN
BEGIN:VEVENT
DTSTART:20141205T000000Z
DTEND:20141205T020000Z
X-MICROSOFT-CDO-ALLDAYEVENT:FALSE
SUMMARY:Wreath Making
DESCRIPTION:Folk School festivities begin with a Wreath Making Workshop on December 4 at 7 p.m. Attendees will gather in the school's cozy Keith House Community Room\, and will learn how to transform fresh greenery into beautiful wreaths to adorn the school's campus. For more information call the main office at 828-837-2775 and speak to Tammy or Kim.
X-ALT-DESC;FMTTYPE=text/html:Folk School festivities begin with a Wreath Making Workshop on December 4 at 7 p.m. Attendees will gather in the school&#39\;s cozy Keith House Community Room\, and will learn how to transform fresh greenery into beautiful wreaths to adorn the school&#39\;s campus. For more information call the main office at 828-837-2775 and speak to Tammy or Kim.
LOCATION:John C Campbell Folk School Keith House Community Room Brasstown\, NC
UID:e.256.28023
SEQUENCE:3
DTSTAMP:20260424T031706Z
URL:https://members.visitblairsvillega.com/events/details/wreath-making-12-04-2014-28023
END:VEVENT

END:VCALENDAR
