BEGIN:VCALENDAR
VERSION:2.0
PRODID:-//ChamberMaster//Event Calendar 2.0//EN
METHOD:PUBLISH
X-PUBLISHED-TTL:P3D
REFRESH-INTERVAL:P3D
CALSCALE:GREGORIAN
BEGIN:VEVENT
DTSTART:20150410T143000Z
DTEND:20150410T220000Z
X-MICROSOFT-CDO-ALLDAYEVENT:FALSE
SUMMARY:Writers' Conference
DESCRIPTION:Writers will learn to hone their skills\, network with fellow writers\, and expand their markets at the 18th Annual Blue Ridge Writers' Conference hosted by the Blue Ridge Mountains Arts Association.  Begin your conference with a Workshop Intensive held on Friday\, April 10th at the Art Center from 10:30   2:30pm and join us for a Writers' Meet & Greet also on April 10th from 5   6pm.  Writers' Conference sessions take place on Saturday\, April 11 from 8:30am   5pm. \n\nContact information: blueridgearts@gmail.com.
X-ALT-DESC;FMTTYPE=text/html:<span style="font-size:12pt"><span style="font-family:adobe caslon pro bold\,serif">Writers will learn to hone their skills\, network with fellow writers\, and expand their markets at the 18th Annual Blue Ridge Writers&rsquo\; Conference hosted by the Blue Ridge Mountains Arts Association. &nbsp\;Begin your conference with a Workshop Intensive held on Friday\, April 10<sup>th</sup> at the Art Center from 10:30 &ndash\; 2:30pm and join us for a Writers&rsquo\; Meet &amp\; Greet also on April 10<sup>th</sup> from 5 &ndash\; 6pm. &nbsp\;Writers&rsquo\; Conference sessions take place on Saturday\, April 11 from 8:30am &ndash\; 5pm. </span></span><br />\n<span style="font-size:12pt"><span style="font-family:adobe caslon pro bold\,serif">Contact information: blueridgearts@gmail.com.</span></span><br />\n&nbsp\;
LOCATION:The Blue Ridge Mountains Art Association/The Art Center
UID:e.256.34799
SEQUENCE:3
DTSTAMP:20260423T200032Z
URL:https://members.visitblairsvillega.com/events/details/writers-conference-04-10-2015-34799
END:VEVENT

END:VCALENDAR
