BEGIN:VCALENDAR
VERSION:2.0
PRODID:-//ChamberMaster//Event Calendar 2.0//EN
METHOD:PUBLISH
X-PUBLISHED-TTL:P3D
REFRESH-INTERVAL:P3D
CALSCALE:GREGORIAN
BEGIN:VEVENT
DTSTART:20140315T220000Z
DTEND:20140316T010000Z
X-MICROSOFT-CDO-ALLDAYEVENT:FALSE
SUMMARY:Writers' Night Out
DESCRIPTION:A fun and lively evening featuring two local authors or poets reading from their own work\, followed by audience members participating in an open microphone. The event has been ongoing monthly for 4 years and draws audience members from 4 counties. Open to the public. Sign up for open mic at the door (limit 3 minutes of poetry or prose) or just come to socialize and listen. Sponsored by the North Carolina Writers' Network.
X-ALT-DESC;FMTTYPE=text/html:A fun and lively evening featuring two local authors or poets reading from their own work\, followed by audience members participating in an open microphone. The event has been ongoing monthly for 4 years and draws audience members from 4 counties. Open to the public. Sign up for open mic at the door (limit 3 minutes of poetry or prose) or just come to socialize and listen. Sponsored by the North Carolina Writers&#39\; Network.
LOCATION:Union County Community Center at Butternut Creek Golf Course\, in the heart of Blairsville\, GA
UID:e.256.23320
SEQUENCE:3
DTSTAMP:20260424T164424Z
URL:https://members.visitblairsvillega.com/events/details/writers-night-out-03-15-2014-23320
END:VEVENT

END:VCALENDAR
