BEGIN:VCALENDAR
VERSION:2.0
PRODID:-//ChamberMaster//Event Calendar 2.0//EN
METHOD:PUBLISH
X-PUBLISHED-TTL:P3D
REFRESH-INTERVAL:P3D
CALSCALE:GREGORIAN
BEGIN:VEVENT
DTSTART:20140517T220000Z
DTEND:20140518T010000Z
X-MICROSOFT-CDO-ALLDAYEVENT:FALSE
SUMMARY:Writers' Night Out
DESCRIPTION:Reading by published poet and editor\, Helen Losse\, followed by open microphone for prose writers or poets (3 minute max). Open to public\, free coffee and tea. Dinner available to purchase (arrive by 6 pm). Sponsored by the North Carolina Writers' Network
X-ALT-DESC;FMTTYPE=text/html:Reading by published poet and editor\, Helen Losse\, followed by open microphone for prose writers or poets (3 minute max). Open to public\, free coffee and tea. Dinner available to purchase (arrive by 6 pm). Sponsored by the North Carolina Writers&#39\; Network
LOCATION:Union County Community Center Blairsville\, GA
UID:e.256.24349
SEQUENCE:3
DTSTAMP:20260424T122239Z
URL:https://members.visitblairsvillega.com/events/details/writers-night-out-05-17-2014-24349
END:VEVENT

END:VCALENDAR
