BEGIN:VCALENDAR
VERSION:2.0
PRODID:-//ChamberMaster//Event Calendar 2.0//EN
METHOD:PUBLISH
X-PUBLISHED-TTL:P3D
REFRESH-INTERVAL:P3D
CALSCALE:GREGORIAN
BEGIN:VEVENT
DTSTART:20160909T230000Z
DTEND:20160910T010000Z
X-MICROSOFT-CDO-ALLDAYEVENT:FALSE
SUMMARY:Writers' Night Out
DESCRIPTION:This this is a monthly event where featured readers (published writers) share their work in a casual atmosphere. An open mic follows: Sign up at the door to read 3 minutes of your poetry or prose. Open to the public -- all are welcome to read or just listen. The event is in its 6th year and draws people from four counties. Sponsored by the NC Writers' Network-West
X-ALT-DESC;FMTTYPE=text/html:This this is a monthly event where featured readers (published writers) share their work in a casual atmosphere. An open mic follows: Sign up at the door to read 3 minutes of your poetry or prose. Open to the public -- all are welcome to read or just listen. The event is in its 6th year and draws people from four counties. Sponsored by the NC Writers&#39\; Network-West
LOCATION:Union County Community Center\, Blairsville
UID:e.256.50674
SEQUENCE:3
DTSTAMP:20260420T162513Z
URL:https://members.visitblairsvillega.com/events/details/writers-night-out-09-09-2016-50674
END:VEVENT

END:VCALENDAR
