BEGIN:VCALENDAR
VERSION:2.0
PRODID:-//ChamberMaster//Event Calendar 2.0//EN
METHOD:PUBLISH
X-PUBLISHED-TTL:P3D
REFRESH-INTERVAL:P3D
CALSCALE:GREGORIAN
BEGIN:VEVENT
DTSTART:20171013T230000Z
DTEND:20171014T010000Z
X-MICROSOFT-CDO-ALLDAYEVENT:FALSE
SUMMARY:Writers' Night Out
DESCRIPTION:A fun night for readers and writers. A featured author or poet followed by open mic. Free and open to the public. 2017 schedule: April 14: Newt Smith & Robert Lee Kendrick May 12: Diana Anhalt June 9: Glenda Beall July 14: Andrea Jurjevic & Jason Allen Aug 11: Tribute to Tom Lux + humorous poetry Sept 8: Richard Krawiec Oct 13: Natalie Grant & Mary Mike Keller Nov 10: Dana Wildsmith and Christopher Martin Writers? Night Out is sponsored by North Carolina Writers? Network-West and takes place on the second Friday of the month\, April through November. Prose writers or poets wishing to participate in the open mic can sign up at the door to read for three minutes.
X-ALT-DESC;FMTTYPE=text/html:A fun night for readers and writers. A featured author or poet followed by open mic. Free and open to the public. 2017 schedule: April 14: Newt Smith &amp\; Robert Lee Kendrick May 12: Diana Anhalt June 9: Glenda Beall July 14: Andrea Jurjevic &amp\; Jason Allen Aug 11: Tribute to Tom Lux + humorous poetry Sept 8: Richard Krawiec Oct 13: Natalie Grant &amp\; Mary Mike Keller Nov 10: Dana Wildsmith and Christopher Martin Writers? Night Out is sponsored by North Carolina Writers? Network-West and takes place on the second Friday of the month\, April through November. Prose writers or poets wishing to participate in the open mic can sign up at the door to read for three minutes.
LOCATION:Union County Community Center\, Blairsville
UID:e.256.71809
SEQUENCE:3
DTSTAMP:20260419T155726Z
URL:https://members.visitblairsvillega.com/events/details/writers-night-out-10-13-2017-71809
END:VEVENT

END:VCALENDAR
