BEGIN:VCALENDAR
VERSION:2.0
PRODID:-//ChamberMaster//Event Calendar 2.0//EN
METHOD:PUBLISH
X-PUBLISHED-TTL:P3D
REFRESH-INTERVAL:P3D
CALSCALE:GREGORIAN
BEGIN:VEVENT
DTSTART:20141018T230000Z
DTEND:20141019T010000Z
X-MICROSOFT-CDO-ALLDAYEVENT:FALSE
SUMMARY:Writers' Night Out
DESCRIPTION:This month features Chelsea Rathburn and James Davis May\, award-winning and highly published poets who are creative writing professors at Young Harris College. This is a always a fun and lively evening featuring two local authors or poets reading from their own work\, followed by audience members participating in an open microphone. The event has been ongoing on the second Saturday monthly for 4 years and draws audience members from 4 counties. (for October\, it's the third Saturday). Open to the public. Sign up for open mic at the door (limit 3 minutes of poetry or prose) or just come to socialize and listen. Sponsored by the North Carolina Writers' Network.
X-ALT-DESC;FMTTYPE=text/html:This month features Chelsea Rathburn and James Davis May\, award-winning and highly published poets who are creative writing professors at Young Harris College. This is a always a fun and lively evening featuring two local authors or poets reading from their own work\, followed by audience members participating in an open microphone. The event has been ongoing on the second Saturday monthly for 4 years and draws audience members from 4 counties. (for October\, it&#39\;s the third Saturday). Open to the public. Sign up for open mic at the door (limit 3 minutes of poetry or prose) or just come to socialize and listen. Sponsored by the North Carolina Writers&#39\; Network.
LOCATION:Union County Community Center\, Blairsville
UID:e.256.27661
SEQUENCE:3
DTSTAMP:20260424T045106Z
URL:https://members.visitblairsvillega.com/events/details/writers-night-out-10-18-2014-27661
END:VEVENT

END:VCALENDAR
