BEGIN:VCALENDAR
VERSION:2.0
PRODID:-//ChamberMaster//Event Calendar 2.0//EN
METHOD:PUBLISH
X-PUBLISHED-TTL:P3D
REFRESH-INTERVAL:P3D
CALSCALE:GREGORIAN
BEGIN:VEVENT
DTSTART:20151113T230000Z
DTEND:20151114T020000Z
X-MICROSOFT-CDO-ALLDAYEVENT:FALSE
SUMMARY:Writers' Night Out
DESCRIPTION:A fun evening featuring local and nationally recognized writers. After the featured reading\, there's an open microphone for anyone interested in sharing their own poetry or prose. Open to the public.
X-ALT-DESC;FMTTYPE=text/html:A fun evening featuring local and nationally recognized writers. After the featured reading\, there&#39\;s an open microphone for anyone interested in sharing their own poetry or prose. Open to the public.
LOCATION:Union County Community Center\, Blairsville
UID:e.256.37899
SEQUENCE:3
DTSTAMP:20260423T085124Z
URL:https://members.visitblairsvillega.com/events/details/writers-night-out-11-13-2015-37899
END:VEVENT

END:VCALENDAR
