BEGIN:VCALENDAR
VERSION:2.0
PRODID:-//ChamberMaster//Event Calendar 2.0//EN
METHOD:PUBLISH
X-PUBLISHED-TTL:P3D
REFRESH-INTERVAL:P3D
CALSCALE:GREGORIAN
BEGIN:VEVENT
DTSTART:20170312T000000Z
DTEND:20170312T033000Z
X-MICROSOFT-CDO-ALLDAYEVENT:FALSE
SUMMARY:Wynonna & The Big Noise
DESCRIPTION:Wynonna & The Big Noise will be in concert at the Georgia Mountain Fairgrounds in Hiawassee
X-ALT-DESC;FMTTYPE=text/html:Wynonna &amp\; The Big Noise will be in concert at the Georgia Mountain Fairgrounds in Hiawassee
LOCATION:Anderson Music Hall 1311 Music Hall Road Hiawassee\, GA 30546
UID:e.256.63231
SEQUENCE:3
DTSTAMP:20260420T042346Z
URL:https://members.visitblairsvillega.com/events/details/wynonna-the-big-noise-63231
END:VEVENT

END:VCALENDAR
