BEGIN:VCALENDAR
VERSION:2.0
PRODID:-//ChamberMaster//Event Calendar 2.0//EN
METHOD:PUBLISH
X-PUBLISHED-TTL:P3D
REFRESH-INTERVAL:P3D
CALSCALE:GREGORIAN
BEGIN:VEVENT
DTSTART:20140515T153000Z
DTEND:20140515T173000Z
X-MICROSOFT-CDO-ALLDAYEVENT:FALSE
SUMMARY:"Yelp + You Tube + Go Mobile or Get Left Behind"
DESCRIPTION:"Yelp + YouTube + "Go Mobile or Get Left Behind"\n\nThe Blairsville-Union County Chamber of Commerce in partnership with the Towns County Chamber of Commerce is offering a class called "Yelp + You Tube + "Go Mobile or Get Left Behind" presented by Howard Flint | Ghost Partner.\n\n\n\nCan you Yelp? Learn the basics of how Yelp works and how to "play the game" and make it work for you. Plus\, an overview of review sites and why they are so important. Did you know that You Tube is the #2 "search engine"?  It's really not a search engine but it's where people go more and more to find out how to do something\, how to build something\, where to dine\, where to vacation\, etc. Learn how to use video to help market your service.  Go Mobile or Get Left Behind is why you can't ignore mobile even if you think your customers aren't using it.  Learn how going mobile is the new reality for small businesses and nonprofit organizations.  (Lap tops or other mobile devices required.)\n\nWhen registering\, please select one of the following lunch options:\n\nSalad with Ranch Dressing\n\nSalad with Blue Cheese Dressing\n\nSalad with Raspberry Vinaigrette\n\nButternut Club on Wheatberry Bread\n\nLunch payment will be made to The View Grill on the day of the event.
X-ALT-DESC;FMTTYPE=text/html:<p><span style="font-size: 12px\;"><span style="font-family: arial\;"><strong>&quot\;Yelp + YouTube + &quot\;Go Mobile or Get Left Behind&quot\;</strong><br />\nThe Blairsville-Union County Chamber of Commerce in partnership with the Towns County Chamber of Commerce is offering a class called &quot\;Yelp + You Tube + &quot\;Go Mobile or Get Left Behind&quot\; presented by <strong>Howard Flint</strong> | Ghost Partner.<br />\n<br />\nCan you Yelp? Learn the basics of how Yelp works and how to &quot\;play the game&quot\; and make it work for you. Plus\, an overview of review sites and why they are so important. Did you know that You Tube is the #2 &quot\;search engine&quot\;?&nbsp\; It&#39\;s really not a search engine but it&#39\;s where people go more and more to find out how to do something\, how to build something\, where to dine\, where to vacation\, etc.&nbsp\;Learn how to use video to help market your service.&nbsp\; Go Mobile or Get Left Behind is why you can&#39\;t ignore mobile even if you think your customers aren&#39\;t using it.&nbsp\; Learn how going&nbsp\;mobile&nbsp\;is the new reality for small businesses and nonprofit organizations.&nbsp\;&nbsp\;<strong>(Lap tops or other mobile devices required.)</strong><br />\nWhen registering\, please select one of the following lunch options:<br />\nSalad with Ranch&nbsp\;Dressing<br />\nSalad with Blue Cheese Dressing<br />\nSalad with Raspberry Vinaigrette<br />\nButternut Club on Wheatberry Bread<br />\nLunch</span></span><span style="font-size: 12px\;"><span style="font-family: arial\;"> payment will be made to The View Grill on the day of the event.&nbsp\;</span></span></p>\n
LOCATION:Union County Community Center 129 Union County Rec Rd Blairsville\, GA
UID:e.256.23625
SEQUENCE:3
DTSTAMP:20260424T133900Z
URL:https://members.visitblairsvillega.com/events/details/yelp-you-tube-go-mobile-or-get-left-behind-05-15-2014-23625
END:VEVENT

END:VCALENDAR
