BEGIN:VCALENDAR
VERSION:2.0
PRODID:-//ChamberMaster//Event Calendar 2.0//EN
METHOD:PUBLISH
X-PUBLISHED-TTL:P3D
REFRESH-INTERVAL:P3D
CALSCALE:GREGORIAN
BEGIN:VEVENT
DTSTART:20150820T210000Z
DTEND:20150820T230000Z
X-MICROSOFT-CDO-ALLDAYEVENT:FALSE
SUMMARY:YHC Fall 2015 Student Organization and Local Business Fair
DESCRIPTION:This will be your opportunity to market your organization to the student body\, provide information on your purpose and mission\, and advertise upcoming events or opportunity in the community.
X-ALT-DESC;FMTTYPE=text/html:<span style="font-family: &quot\;Times New Roman&quot\;\,&quot\;serif&quot\;\; font-size: 12pt\; mso-fareast-font-family: &quot\;Times New Roman&quot\;\; mso-ansi-language: EN-US\; mso-fareast-language: EN-US\; mso-bidi-language: AR-SA\;">This will be your opportunity to market your organization to the student body\, provide information on your purpose and mission\, and advertise upcoming events or opportunity in the community. </span>
LOCATION:On the Plaza as a part of our Welcome Week activities.
UID:e.256.41391
SEQUENCE:3
DTSTAMP:20260423T151422Z
URL:https://members.visitblairsvillega.com/events/details/yhc-fall-2015-student-organization-and-local-business-fair-08-20-2015-41391
END:VEVENT

END:VCALENDAR
