BEGIN:VCALENDAR
VERSION:2.0
PRODID:-//ChamberMaster//Event Calendar 2.0//EN
METHOD:PUBLISH
X-PUBLISHED-TTL:P3D
REFRESH-INTERVAL:P3D
CALSCALE:GREGORIAN
BEGIN:VEVENT
DTSTART:20151105T230000Z
DTEND:20151106T010000Z
X-MICROSOFT-CDO-ALLDAYEVENT:FALSE
SUMMARY:YHC's Campus Gate Art Gallery Reception
DESCRIPTION:The show will host the Alice Hirt and Jo Bearse Endowed Art Exhibition featuring works by talented members of YHC's Department of Art. The show\, titled "Confluence\," will open on Thursday\, Nov. 5\, with a reception at 6 p.m. in the gallery and will be on display until Tuesday\, Nov. 24. The reception and exhibit are free and open to the public.\n\n \n\n"This will be a great opportunity for students\, faculty\, staff and the community to see recent works by our art department members\," said Chair of the Art Department and Associate Professor of Art Ted Whisenhunt\, whose work will be featured in the exhibition. "It is good for our students to see us working on our artwork and getting ready for the show to show we are still active artists. Our work can help inspire theirs."
X-ALT-DESC;FMTTYPE=text/html:<span style="font-size: 10pt\;"><span style="font-family: arial\,sans-serif\;">The show will host the Alice Hirt and Jo Bearse Endowed Art Exhibition featuring works by talented members of YHC&rsquo\;s Department of Art. The show\, titled &ldquo\;Confluence\,&rdquo\; will open on Thursday\, Nov. 5\, with a reception at 6 p.m. in the gallery and will be on display until Tuesday\, Nov. 24. The reception and exhibit are free and open to the public.</span></span><br />\n&nbsp\;<br />\n<span style="font-size: 10pt\;"><span style="font-family: arial\,sans-serif\;">&ldquo\;This will be a great opportunity for students\, faculty\, staff and the community to see recent works by our art department members\,&rdquo\; said Chair of the Art Department and Associate Professor of Art Ted Whisenhunt\, whose work will be featured in the exhibition. &ldquo\;It is good for our students to see us working on our artwork and getting ready for the show to show we are still active artists. Our work can help inspire theirs.&rdquo\;</span></span><br />\n&nbsp\;
LOCATION:Campus Gate Art Gallery (CGAG) is located at 5149 College Street on the YHC campus
UID:e.256.44350
SEQUENCE:3
DTSTAMP:20260423T085355Z
URL:https://members.visitblairsvillega.com/events/details/yhc-s-campus-gate-art-gallery-reception-11-05-2015-44350
END:VEVENT

END:VCALENDAR
