BEGIN:VCALENDAR
VERSION:2.0
PRODID:-//ChamberMaster//Event Calendar 2.0//EN
METHOD:PUBLISH
X-PUBLISHED-TTL:P3D
REFRESH-INTERVAL:P3D
CALSCALE:GREGORIAN
BEGIN:VEVENT
DTSTART:20151027T230000Z
DTEND:20151028T010000Z
X-MICROSOFT-CDO-ALLDAYEVENT:FALSE
SUMMARY:YHC's Community Band to Present Veteran?s Day Concert
DESCRIPTION:The band will perform patriotic musical selections and recognize our nation's active and retired service men and women. \n\n \n\nRetired Lt. Col. Robert Thurston will serve as a guest conductor. Lt. Col. Thurston recently retired following a 20-year career as Chief Arranger for the United States Air Force Band in Washington\, D.C. He has also written several dozen original musical compositions published for a variety of musical ensembles. He will conduct "On Behalf of A Grateful Nation" and "Flight of The Falcon\," two of his original compositions for band.\n\n \n\nThe Community Band will also perform other familiar favorites including John Philip Sousa's "The Liberty Bell March" and a medley of American folksongs. \n\n \n\nUnder the direction of Adjunct Instructor of Music Kerry Rittenhouse\, the YHC Community Band provides an opportunity for local musicians to perform quality musical literature. It serves as an educational resource for area schools\, and presents several free concerts every year for the residents of Young Harris\, Ga.\, and surrounding areas.
X-ALT-DESC;FMTTYPE=text/html:<span style="font-size: 10pt\;"><span style="font-family: arial\,sans-serif\;">The band will perform patriotic musical selections and recognize our nation&#39\;s active and retired service men and women. </span></span><br />\n&nbsp\;<br />\n<span style="font-size: 10pt\;"><span style="font-family: arial\,sans-serif\;">Retired Lt. Col. Robert Thurston will serve as a guest conductor. Lt. Col. Thurston recently retired following a 20-year career as Chief Arranger for the United States Air Force Band in Washington\, D.C. He has also written several dozen original musical compositions published for a variety of musical ensembles. He will conduct &ldquo\;On Behalf of A Grateful Nation&rdquo\; and &ldquo\;Flight of The Falcon\,&rdquo\; two of his original compositions for band.</span></span><br />\n&nbsp\;<br />\n<span style="font-size: 10pt\;"><span style="font-family: arial\,sans-serif\;">The Community Band will also perform other familiar favorites including John Philip Sousa&rsquo\;s &ldquo\;The Liberty Bell March&rdquo\; and a medley of American folksongs. </span></span><br />\n&nbsp\;<br />\n<span style="font-size: 10pt\;"><span style="font-family: arial\,sans-serif\;">Under the direction of Adjunct Instructor of Music Kerry Rittenhouse\, the YHC Community Band provides an opportunity for local musicians to perform quality musical literature. It serves as an educational resource for area schools\, and presents several free concerts every year for the residents of Young Harris\, Ga.\, and surrounding areas. </span></span><br />\n&nbsp\;
LOCATION:Glenn Auditorium of the Clegg Fine Arts Building on the YHC campus
UID:e.256.44351
SEQUENCE:3
DTSTAMP:20260423T104004Z
URL:https://members.visitblairsvillega.com/events/details/yhc-s-community-band-to-present-veteran-s-day-concert-10-27-2015-44351
END:VEVENT

END:VCALENDAR
