BEGIN:VCALENDAR
VERSION:2.0
PRODID:-//ChamberMaster//Event Calendar 2.0//EN
METHOD:PUBLISH
X-PUBLISHED-TTL:P3D
REFRESH-INTERVAL:P3D
CALSCALE:GREGORIAN
BEGIN:VEVENT
DTSTART;VALUE=DATE:20140823
DTEND;VALUE=DATE:20140824
TRANSP:TRANSPARENT
X-MICROSOFT-CDO-ALLDAYEVENT:TRUE
SUMMARY:Young Harris Arts & Crafts Show
DESCRIPTION:Young Harris Arts & Crafts Show\n\nMayors Park\, Hwy 76\, Young Harris\n\nSaturday\, August 23 10am - 5pm\n\nSunday\, August 24 10am - 4pm\n\nAdmission is free\n\n\n\nOver fifty-five arts and crafts vendors from throughout the Southeast will be present to show and sell their hand-crafted arts and crafts. Pottery\, jewelry\, wood turning\, yard art\, soaps\, oils and lotions\, fabric art\, fine art\, glass and photography. There will also be food available\, including BBQ\, kettle corn\, shaved ice\, funnel cakes\, lemonade\, fried pies and glazed nuts.\n\nEntertainment will be performing throughout the weekend for your enjoyment.\n\nAlong with a petting zoo for the children.
X-ALT-DESC;FMTTYPE=text/html:<strong>Young Harris Arts &amp\; Crafts Show</strong><br />\nMayors Park\, Hwy 76\, Young Harris<br />\n<strong>Saturday\, August 23 10am - 5pm<br />\nSunday\, August 24 10am - 4pm<br />\nAdmission is free</strong><br />\n<br />\nOver fifty-five arts and crafts vendors from throughout the Southeast will be present to show and sell their hand-crafted arts and crafts. Pottery\, jewelry\, wood turning\, yard art\, soaps\, oils and lotions\, fabric art\, fine art\, glass and photography. There will also be food available\, including BBQ\, kettle corn\, shaved ice\, funnel cakes\, lemonade\, fried pies and glazed nuts.<br />\nEntertainment will be performing throughout the weekend for your enjoyment.<br />\nAlong with a petting zoo for the children.
LOCATION:Mayors Park Young Harris\, GA
UID:e.256.26159
SEQUENCE:3
DTSTAMP:20260424T073735Z
URL:https://members.visitblairsvillega.com/events/details/young-harris-arts-crafts-show-08-23-2014-26159
END:VEVENT

END:VCALENDAR
