BEGIN:VCALENDAR
VERSION:2.0
PRODID:-//ChamberMaster//Event Calendar 2.0//EN
METHOD:PUBLISH
X-PUBLISHED-TTL:P3D
REFRESH-INTERVAL:P3D
CALSCALE:GREGORIAN
BEGIN:VEVENT
DTSTART:20140315T220000Z
DTEND:20140315T220000Z
X-MICROSOFT-CDO-ALLDAYEVENT:FALSE
SUMMARY:Young Harris College BIG DANCE
DESCRIPTION:Young Harris College BIG DANCE\n\nSaturday\, March 15\, 2014\n\nYoung Harris College Recreation and Fitness Center\n\n\n\nDoors Open @ 6pm\n\nMusic Begins @ 7:30pm\n\nFeaturing: The Grapevine\n\nIndividual Tickets $40\n\nTables for 8 $225\n\nBring your food and beverage\, or pre-order from a variety of dining packages by The Copper Door.\n\n\n\nTable Decorating Contest: Winners will receive a table at next year's BIG DANCE!\n\nTo Benefit Scholarships for Local Students
X-ALT-DESC;FMTTYPE=text/html:Young Harris College BIG DANCE<br />\nSaturday\, March 15\, 2014<br />\nYoung Harris College Recreation and Fitness Center<br />\n<br />\nDoors Open @ 6pm<br />\nMusic Begins @ 7:30pm<br />\nFeaturing: The Grapevine<br />\nIndividual Tickets $40<br />\nTables for 8 $225<br />\nBring your food and beverage\, or pre-order from a variety of dining packages by The Copper Door.<br />\n<br />\nTable Decorating Contest: Winners will receive a table at next year&#39\;s BIG DANCE!<br />\n<em>To Benefit Scholarships for Local Students </em>
LOCATION:Young Harris College Recreation and Fitness Center Young Harris\, GA
UID:e.256.23238
SEQUENCE:3
DTSTAMP:20260424T152052Z
URL:https://members.visitblairsvillega.com/events/details/young-harris-college-big-dance-03-15-2014-23238
END:VEVENT

END:VCALENDAR
