BEGIN:VCALENDAR
VERSION:2.0
PRODID:-//ChamberMaster//Event Calendar 2.0//EN
METHOD:PUBLISH
X-PUBLISHED-TTL:P3D
REFRESH-INTERVAL:P3D
CALSCALE:GREGORIAN
BEGIN:VEVENT
DTSTART:20160817T210000Z
DTEND:20160817T230000Z
X-MICROSOFT-CDO-ALLDAYEVENT:FALSE
SUMMARY:Young Harris College Business Fair
DESCRIPTION:Each year\, Young Harris College hosts a Local Business and Student Organization Fair to show our new students what is available in our community. We would love to have as many businesses present as possible. Please contact me via email to receive an entry form and more information on the event.
X-ALT-DESC;FMTTYPE=text/html:Each year\, Young Harris College hosts a Local Business and Student Organization Fair to show our new students what is available in our community. We would love to have as many businesses present as possible. Please contact me via email to receive an entry form and more information on the event.
LOCATION:Young Harris College
UID:e.256.54063
SEQUENCE:3
DTSTAMP:20260420T164825Z
URL:https://members.visitblairsvillega.com/events/details/young-harris-college-business-fair-08-17-2016-54063
END:VEVENT

END:VCALENDAR
