BEGIN:VCALENDAR
VERSION:2.0
PRODID:-//ChamberMaster//Event Calendar 2.0//EN
METHOD:PUBLISH
X-PUBLISHED-TTL:P3D
REFRESH-INTERVAL:P3D
CALSCALE:GREGORIAN
BEGIN:VEVENT
DTSTART:20160401T230000Z
DTEND:20160402T000000Z
X-MICROSOFT-CDO-ALLDAYEVENT:FALSE
SUMMARY:Young Harris College Division of Fine Arts Presents Acapalooza
DESCRIPTION:The two-day concert featuring a capella pop song arrangements will highlight female and male groups within the YHC Chamber Choir. Friday\, April 1\, will feature women's trios\, quartets\, quintets and ensembles including the all-female a cappella group Southern Harmony as well as the YHC Concert Choir.\n\nSunday\, April 3\, will feature the men's groups including The Compulsive Lyres as well as performances by a barbershop chorus and the Mountain Community Chorus. The student-led vocal group Altitunes will also perform.\n\nSenior music education major Sarah Stogsdill of Shalimar\, Fla.\, and junior music major Jordan Bishop of Suwanee\, Ga.\, will be featured student conductors during the concert.
X-ALT-DESC;FMTTYPE=text/html:<span style="color:black\;"><span style="font-family:arial\,sans-serif\;"><span style="font-size:10.0pt\;">The two-day concert featuring a capella pop song arrangements will highlight female and male groups within the YHC Chamber Choir. Friday\, April 1\, will feature women&rsquo\;s trios\, quartets\, quintets and ensembles including the all-female a cappella group Southern Harmony as well as the YHC Concert Choir.</span></span></span><br />\n<span style="color:black\;"><span style="font-family:arial\,sans-serif\;"><span style="font-size:10.0pt\;">Sunday\, April 3\, will feature the men&rsquo\;s groups including The Compulsive Lyres as well as performances by a barbershop chorus and the Mountain Community Chorus. The student-led vocal group Altitunes will also perform.</span></span></span><br />\n<span style="color:black\;"><span style="font-family:arial\,sans-serif\;"><span style="font-size:10.0pt\;">Senior music education major Sarah Stogsdill of Shalimar\, Fla.\, and junior music major Jordan Bishop of Suwanee\, Ga.\, will be featured student conductors during the concert. </span></span></span>
LOCATION:Young Harris College - Susan B. Harris Chapel
UID:e.256.50560
SEQUENCE:3
DTSTAMP:20260421T004438Z
URL:https://members.visitblairsvillega.com/events/details/young-harris-college-division-of-fine-arts-presents-acapalooza-04-01-2016-50560
END:VEVENT

END:VCALENDAR
