BEGIN:VCALENDAR
VERSION:2.0
PRODID:-//ChamberMaster//Event Calendar 2.0//EN
METHOD:PUBLISH
X-PUBLISHED-TTL:P3D
REFRESH-INTERVAL:P3D
CALSCALE:GREGORIAN
BEGIN:VEVENT
DTSTART;VALUE=DATE:20140213
DTEND;VALUE=DATE:20140214
TRANSP:TRANSPARENT
X-MICROSOFT-CDO-ALLDAYEVENT:TRUE
SUMMARY:Young Harris College Men & Women's Basketball
DESCRIPTION:Women's Basketball vs. University of North Carolina at Pembroke \n\nAdmission: $6 for adults\, $3 for children/students\, Free for Young Harris College faculty\, staff and students. For more information\, contact the Young Harris College Athletics Department at (706) 379-5106 or visit www.yhcathletics.com. Date: Thursday\, February 13\, 2014 - 5:30pm - 7:30pm \n\nWhere: YHC Basketball Arena\n\n\n\n\n\nMen's Basketball vs. University of North Carolina at Pembroke \n\nAdmission: $6 for adults\, $3 for children/students\, Free for Young Harris College faculty\, staff and students. For more information\, contact the Young Harris College Athletics Department at (706) 379-5106 or visit www.yhcathletics.com. Date: Thursday\, February 13\, 2014 - 7:30pm - 9:30pm \n\nWhere: YHC Basketball Arena
X-ALT-DESC;FMTTYPE=text/html:<strong>Women&#39\;s Basketball vs. University of North Carolina at Pembroke </strong><br />\nAdmission: $6 for adults\, $3 for children/students\, Free for Young Harris College faculty\, staff and students. For more information\, contact the Young Harris College Athletics Department at (706) 379-5106 or visit www.yhcathletics.com. Date: Thursday\, February 13\, 2014 - 5:30pm - 7:30pm&nbsp\;<br />\nWhere: YHC Basketball Arena<br />\n<br />\n<br />\n<strong>Men&#39\;s Basketball vs. University of North Carolina at Pembroke </strong><br />\nAdmission: $6 for adults\, $3 for children/students\, Free for Young Harris College faculty\, staff and students. For more information\, contact the Young Harris College Athletics Department at (706) 379-5106 or visit www.yhcathletics.com. Date: Thursday\, February 13\, 2014 - 7:30pm&nbsp\;- 9:30pm&nbsp\;<br />\nWhere: YHC Basketball Arena<br />\n<br />\n<br type="_moz" />\n
LOCATION:Young Harris College Basketball Arena Young Harris\, GA
UID:e.256.22828
SEQUENCE:3
DTSTAMP:20260424T182704Z
URL:https://members.visitblairsvillega.com/events/details/young-harris-college-men-women-s-basketball-02-13-2014-22828
END:VEVENT

END:VCALENDAR
