BEGIN:VCALENDAR
VERSION:2.0
PRODID:-//ChamberMaster//Event Calendar 2.0//EN
METHOD:PUBLISH
X-PUBLISHED-TTL:P3D
REFRESH-INTERVAL:P3D
CALSCALE:GREGORIAN
BEGIN:VEVENT
DTSTART:20160826T130000Z
DTEND:20160826T210000Z
X-MICROSOFT-CDO-ALLDAYEVENT:FALSE
SUMMARY:Young Harris College Presents Hush by Nora Hartlaub
DESCRIPTION:Young Harris College's Campus Gate Art Gallery (CGAG) is pleased to present Hush by Nora Hartlaub.  A special closing reception with the artist will take place on Thursday\, Sept. 22\, at 6 p.m. in the gallery. This exhibit will showcase a variety of Hartlaub's pieces ranging from sculptures\, installations\, drawings\, paintings and videos that often juxtapose items of individual or collective significance with subversive and/or puckish observation.\n\nHartlaub is an instructor of art at College of the Albemarle in Elizabeth City\, N.C.\, and currently lives and works on the outer banks of North Carolina.
X-ALT-DESC;FMTTYPE=text/html:<span style="font-size: 10pt\;"><span style="font-family: arial\,sans-serif\;">Young Harris College&rsquo\;s Campus Gate Art Gallery (CGAG) is pleased to present Hush by Nora Hartlaub.&nbsp\; A special closing reception with the artist will take place on Thursday\, Sept. 22\, at 6 p.m. in the gallery. </span></span><span style="font-size: 10pt\;"><span style="font-family: arial\,sans-serif\;">This exhibit will showcase a variety of Hartlaub&rsquo\;s pieces ranging from sculptures\, installations\, drawings\, paintings and videos that often juxtapose items of individual or collective significance with subversive and/or puckish observation.</span></span><br />\n<span style="font-size: 10pt\;"><span style="font-family: arial\,sans-serif\;">Hartlaub is an instructor of art at College of the Albemarle in Elizabeth City\, N.C.\, and currently lives and works on the outer banks of North Carolina.&nbsp\; </span></span><br />\n&nbsp\;
LOCATION:The CGAG is located at 5149 College Street on the YHC campus.
UID:e.256.55557
SEQUENCE:3
DTSTAMP:20260420T184302Z
URL:https://members.visitblairsvillega.com/events/details/young-harris-college-presents-hush-by-nora-hartlaub-08-26-2016-55557
END:VEVENT

END:VCALENDAR
