BEGIN:VCALENDAR
VERSION:2.0
PRODID:-//ChamberMaster//Event Calendar 2.0//EN
METHOD:PUBLISH
X-PUBLISHED-TTL:P3D
REFRESH-INTERVAL:P3D
CALSCALE:GREGORIAN
BEGIN:VEVENT
DTSTART:20151029T220000Z
DTEND:20151030T000000Z
X-MICROSOFT-CDO-ALLDAYEVENT:FALSE
SUMMARY:Young Harris College's Annual Fall Fest
DESCRIPTION:The event is open to the public and promises to be a fun-filled experience for all ages. Fall Fest is co-sponsored by the Division of Student Development\, Office of Campus Activities\, Office of Residence Life and Office of Campus Recreation.The College's main plaza will be full of Halloween games\, treats\, and activities including a pumpkin sweep race\, face painting\, and pumpkin decorating. Trick-or-treating will take place in Enotah Hall and Appleby Center residence halls. YHC's Recreation and Fitness Center will be transformed into a thrilling and chilling haunted house that is recommended for children 11 and older.
X-ALT-DESC;FMTTYPE=text/html:<span style="font-family: &quot\;Arial&quot\;\,&quot\;sans-serif&quot\;\; font-size: 10pt\; mso-fareast-font-family: Calibri\; mso-fareast-theme-font: minor-latin\; mso-ansi-language: EN-US\; mso-fareast-language: EN-US\; mso-bidi-language: AR-SA\;"><font color="#000000">The event is open to the public and promises to be a fun-filled experience for all ages. Fall Fest is co-sponsored by the Division of Student Development\, Office of Campus Activities\, Office of Residence Life and Office of Campus Recreation.</font></span><span style="font-size: 10pt\;"><span style="font-family: arial\,sans-serif\;">The College&rsquo\;s main plaza will be full of Halloween games\, treats\, and activities including a pumpkin sweep race\, face painting\, and pumpkin decorating. Trick-or-treating will take place in Enotah Hall and Appleby Center residence halls. YHC&rsquo\;s Recreation and Fitness Center will be transformed into a thrilling and chilling haunted house that is recommended for children 11 and older. </span></span><br />\n<br />\n&nbsp\;<br />\n&nbsp\;
LOCATION:Young Harris College. In the event of rain\, activities will move into the Recreation and Fitness Center.
UID:e.256.44326
SEQUENCE:3
DTSTAMP:20260423T103021Z
URL:https://members.visitblairsvillega.com/events/details/young-harris-college-s-annual-fall-fest-10-29-2015-44326
END:VEVENT

END:VCALENDAR
