BEGIN:VCALENDAR
VERSION:2.0
PRODID:-//ChamberMaster//Event Calendar 2.0//EN
METHOD:PUBLISH
X-PUBLISHED-TTL:P3D
REFRESH-INTERVAL:P3D
CALSCALE:GREGORIAN
BEGIN:VEVENT
DTSTART:20151104T000000Z
DTEND:20151104T020000Z
X-MICROSOFT-CDO-ALLDAYEVENT:FALSE
SUMMARY:Young Harris College to Present Percussion Ensemble Concert
DESCRIPTION:The Young Harris College Division of Fine Arts will present a concert featuring the YHC Percussion Ensemble. The event is free and open to the public.\n\nComprised of exceptionally talented students currently studying percussion instruments\, the YHC Percussion Ensemble will perform a variety of solo and ensemble literature written for a myriad of percussive instruments such as xylophone\, marimba\, vibes\, tympani\, and more.\n\nThe group is directed by YHC Adjunct Instructor of Music Eric Brown
X-ALT-DESC;FMTTYPE=text/html:<span style="font-family:arial\,sans-serif\;"><span style="font-size:10.0pt\;">The Young Harris College Division of Fine Arts will present a concert featuring the YHC Percussion Ensemble. The event is free and open to the public.</span></span><br />\n<span style="font-family:arial\,sans-serif\;"><span style="font-size:10.0pt\;">Comprised of exceptionally talented students currently studying percussion instruments\, the YHC Percussion Ensemble will perform a variety of solo and ensemble literature written for a myriad of percussive instruments such as xylophone\, marimba\, vibes\, tympani\, and more.</span></span><br />\n<span style="font-family:arial\,sans-serif\;"><span style="font-size:10.0pt\;">The group is directed by YHC Adjunct Instructor of Music Eric Brown</span></span>
LOCATION:Young Harris College Glenn Auditorium of the Clegg Fine Arts Building
UID:e.256.44349
SEQUENCE:3
DTSTAMP:20260423T102941Z
URL:https://members.visitblairsvillega.com/events/details/young-harris-college-to-present-percussion-ensemble-concert-11-03-2015-44349
END:VEVENT

END:VCALENDAR
