BEGIN:VCALENDAR
VERSION:2.0
PRODID:-//ChamberMaster//Event Calendar 2.0//EN
METHOD:PUBLISH
X-PUBLISHED-TTL:P3D
REFRESH-INTERVAL:P3D
CALSCALE:GREGORIAN
BEGIN:VEVENT
DTSTART;VALUE=DATE:20140927
DTEND;VALUE=DATE:20140928
TRANSP:TRANSPARENT
X-MICROSOFT-CDO-ALLDAYEVENT:TRUE
SUMMARY:Your State Parks Day
DESCRIPTION:Georgians are invited to explore State Parks & Historic Sites with free admission\, dozens of volunteer projects and family-friendly events on Saturday\, September 27. Sponsored by Friends of Georgia State Parks & Historic Sites\, the statewide celebration of National Public Lands Day showcases how parks enrich communities and the importance of local volunteerism. Choose from activities ranging from trail maintenance and river clean-ups\, to guided hikes and astronomy programs.
X-ALT-DESC;FMTTYPE=text/html:Georgians are invited to explore State Parks &amp\; Historic Sites with free admission\, dozens of volunteer projects and family-friendly events on Saturday\, September 27. Sponsored by Friends of Georgia State Parks &amp\; Historic Sites\, the statewide celebration of National Public Lands Day showcases how parks enrich communities and the importance of local volunteerism. Choose from activities ranging from trail maintenance and river clean-ups\, to guided hikes and astronomy programs.
LOCATION:All Georgia's State Parks
UID:e.256.27445
SEQUENCE:3
DTSTAMP:20260424T062044Z
URL:https://members.visitblairsvillega.com/events/details/your-state-parks-day-09-27-2014-27445
END:VEVENT

END:VCALENDAR
