BEGIN:VCALENDAR
VERSION:2.0
PRODID:-//ChamberMaster//Event Calendar 2.0//EN
METHOD:PUBLISH
X-PUBLISHED-TTL:P3D
REFRESH-INTERVAL:P3D
CALSCALE:GREGORIAN
BEGIN:VEVENT
DTSTART:20140304T150000Z
DTEND:20140304T230000Z
X-MICROSOFT-CDO-ALLDAYEVENT:FALSE
SUMMARY:Youth Art Month
DESCRIPTION:Celebrate the art of our local youth during nationally celebrated Youth Art Month. The art of local students from several different schools will be on display inside our Richard Low Evans Gallery. \n\nOpening Reception\, March 4\, 4-6pm
X-ALT-DESC;FMTTYPE=text/html:<span style="font-size: 12pt\;"><span style="font-family: adobe caslon pro bold\,serif\;">Celebrate the art of our local youth during nationally celebrated Youth Art Month. The art of local students from several different schools will be on display inside our Richard Low Evans Gallery.&nbsp\;<br />\nOpening Reception\, March 4\, 4-6pm</span></span><br />\n&nbsp\;
LOCATION:Blue Ridge Mountains Arts Association 420 West Main Street Blue Ridge\, GA 30513
UID:e.256.22125
SEQUENCE:3
DTSTAMP:20260424T152909Z
URL:https://members.visitblairsvillega.com/events/details/youth-art-month-03-04-2014-22125
END:VEVENT

END:VCALENDAR
