BEGIN:VCALENDAR
VERSION:2.0
PRODID:-//ChamberMaster//Event Calendar 2.0//EN
METHOD:PUBLISH
X-PUBLISHED-TTL:P3D
REFRESH-INTERVAL:P3D
CALSCALE:GREGORIAN
BEGIN:VEVENT
DTSTART:20150306T150000Z
DTEND:20150306T230000Z
X-MICROSOFT-CDO-ALLDAYEVENT:FALSE
SUMMARY:Youth Art Month
DESCRIPTION:Celebrate the art of our local youth during the nationally celebrated Youth Art Month. The art of our local area emerging artists from several different schools will be on display in our Richard Low Evans Gallery.  Opening Reception will be March 3 from 4   6pm\n\nContact information: blueridgearts@gmail.com.
X-ALT-DESC;FMTTYPE=text/html:<span style="font-size:12pt"><span style="font-family:adobe caslon pro bold\,serif">Celebrate the art of our local youth during the nationally celebrated Youth Art Month. The art of our local area emerging artists from several different schools will be on display in our Richard Low Evans Gallery.&nbsp\; <strong>Opening Reception will be March 3 from 4 &ndash\; 6pm</strong></span></span><br />\n<span style="font-size:12pt"><span style="font-family:adobe caslon pro bold\,serif">Contact information: blueridgearts@gmail.com.</span></span><br />\n&nbsp\;
LOCATION:The Blue Ridge Mountains Art Association/The Art Center
UID:e.256.34756
SEQUENCE:3
DTSTAMP:20260423T212046Z
URL:https://members.visitblairsvillega.com/events/details/youth-art-month-03-06-2015-34756
END:VEVENT

END:VCALENDAR
