BEGIN:VCALENDAR
VERSION:2.0
PRODID:-//ChamberMaster//Event Calendar 2.0//EN
METHOD:PUBLISH
X-PUBLISHED-TTL:P3D
REFRESH-INTERVAL:P3D
CALSCALE:GREGORIAN
BEGIN:VEVENT
DTSTART:20170312T140000Z
DTEND:20170312T220000Z
X-MICROSOFT-CDO-ALLDAYEVENT:FALSE
SUMMARY:Youth Art Month Exhibit
DESCRIPTION:Support the visual arts and our talented local youth during the nationally celebrated Youth Art Month. Emerging artists from several different schools will display their creations inside the Richard Low Evans Gallery. Families\, friends\, teachers\, art lovers\, and the young artists themselves\, will celebrate the talent\, patience and hard work that goes into art and quality art education. Opening Reception will be March 1\, 4 6pm.
X-ALT-DESC;FMTTYPE=text/html:<p><span style="font-family:adobe caslon pro bold\,serif\; font-size:12pt">Support the visual arts and our talented local youth during the nationally celebrated Youth Art Month. Emerging artists from several different schools will display their creations inside the Richard Low Evans Gallery. Families\, friends\, teachers\, art lovers\, and the young artists themselves\, will celebrate the talent\, patience and hard work that goes into art and quality art education. Opening Reception will be March 1\, 4&ndash\;6pm.</span></p>\n
LOCATION:The Art Center 420 West Main Street Blue Ridge\, GA 30513
UID:e.256.65448
SEQUENCE:3
DTSTAMP:20260420T042758Z
URL:https://members.visitblairsvillega.com/events/details/youth-art-month-exhibit-03-12-2017-65448
END:VEVENT

END:VCALENDAR
