BEGIN:VCALENDAR
VERSION:2.0
PRODID:-//ChamberMaster//Event Calendar 2.0//EN
METHOD:PUBLISH
X-PUBLISHED-TTL:P3D
REFRESH-INTERVAL:P3D
CALSCALE:GREGORIAN
BEGIN:VEVENT
DTSTART:20150321T223000Z
DTEND:20150322T013000Z
X-MICROSOFT-CDO-ALLDAYEVENT:FALSE
SUMMARY:Youth Rally Ages 12-24
DESCRIPTION:Evangelist Rodney LaVallie - The Power of Choices If you are age 12-26 you are invited to attend a dynamic event featuring Rodney LaVallie\, the amazing musical group Grafted\,and drama team\, Relentless. There will be a pizza blast afterward. A free BOGO bowling game coupon compliments of Galaxy Bowling of Blairsville for everyone attending both nights. Christian band\, Grafted are our musical guests. Relentless\, drama team will Perform Bring your friends and neighbors. Churches bring your youth groups. Come be a part of this exciting event. Groups please call with number anticipated for food purposes. The rally will be held both nights Friday and Saturday\, March 20th and 21st\, beginning at 6:30. New Hope Fellowship Church\, located at\,1456 Blue Ridge Hwy.\, Blairsville\, GA. Phone 706-745-9864.
X-ALT-DESC;FMTTYPE=text/html:Evangelist Rodney LaVallie - The Power of Choices If you are age 12-26 you are invited to attend a dynamic event featuring Rodney LaVallie\, the amazing musical group Grafted\,and drama team\, Relentless. There will be a pizza blast afterward. A free BOGO bowling game coupon compliments of Galaxy Bowling of Blairsville for everyone attending both nights. Christian band\, Grafted are our musical guests. Relentless\, drama team will Perform Bring your friends and neighbors. Churches bring your youth groups. Come be a part of this exciting event. Groups please call with number anticipated for food purposes. The rally will be held both nights Friday and Saturday\, March 20th and 21st\, beginning at 6:30. New Hope Fellowship Church\, located at\,1456 Blue Ridge Hwy.\, Blairsville\, GA. Phone 706-745-9864.
LOCATION:New Hope Fellowship Church 1456 Blue Ridge Hwy. Blairsville
UID:e.256.37690
SEQUENCE:3
DTSTAMP:20260423T212211Z
URL:https://members.visitblairsvillega.com/events/details/youth-rally-ages-12-24-03-21-2015-37690
END:VEVENT

END:VCALENDAR
