BEGIN:VCALENDAR
VERSION:2.0
PRODID:-//ChamberMaster//Event Calendar 2.0//EN
METHOD:PUBLISH
X-PUBLISHED-TTL:P3D
REFRESH-INTERVAL:P3D
CALSCALE:GREGORIAN
BEGIN:VEVENT
DTSTART:20161114T220000Z
DTEND:20161115T010000Z
X-MICROSOFT-CDO-ALLDAYEVENT:FALSE
SUMMARY:Zaxby's Do Good\, & Eat Good
DESCRIPTION:AT ZAXBY'S  YOU CAN DO GOOD\, & EAT GOOD\n\n10%OF PROCEEDS WILL BENEFIT FAITH BAPTIST YOUTH GROUP
X-ALT-DESC;FMTTYPE=text/html:&nbsp\;AT ZAXBY&rsquo\;S&reg\; YOU CAN DO GOOD\, &amp\; EAT GOOD<br />\n10%OF PROCEEDS WILL BENEFIT FAITH BAPTIST YOUTH GROUP
LOCATION:Zaxby's Blairsville\, Ga.
UID:e.256.59715
SEQUENCE:3
DTSTAMP:20260420T125919Z
URL:https://members.visitblairsvillega.com/events/details/zaxby-s-do-good-eat-good-59715
END:VEVENT

END:VCALENDAR
