BEGIN:VCALENDAR
VERSION:2.0
PRODID:-//ChamberMaster//Event Calendar 2.0//EN
METHOD:PUBLISH
X-PUBLISHED-TTL:P3D
REFRESH-INTERVAL:P3D
CALSCALE:GREGORIAN
BEGIN:VEVENT
DTSTART:20161108T220000Z
DTEND:20161109T010000Z
X-MICROSOFT-CDO-ALLDAYEVENT:FALSE
SUMMARY:Zaxby's Fundraiser for Adopt-a-Grandparent Community Outreach Program
DESCRIPTION:Come have dinner with us and bring a friend. Zaxby's in Blairsville is hosting a fundraiser for the Adopt-a-Grandparent Community Outreach Program. With your generosity the JOY team has been delivering (in costume) your sponsored gifts for Christmas to elderly facilities since 2013\, creating smiles and love in their hearts. Please come\, tell a friend and help support this program.
X-ALT-DESC;FMTTYPE=text/html:Come have dinner with us and bring a friend. Zaxby&#39\;s in Blairsville is hosting a fundraiser for the Adopt-a-Grandparent Community Outreach Program. With your generosity the JOY team has been delivering (in costume) your sponsored gifts for Christmas&nbsp\;<span style="background-color:rgb(255\, 255\, 255)\; color:rgb(51\, 51\, 51)\; font-family:sans-serif\,arial\,verdana\,trebuchet ms\; font-size:13px">to elderly facilities since 2013</span>\, creating smiles and love in their hearts. Please come\, tell a friend and help support this program.
LOCATION:Zaxby's in Blairsville
UID:e.256.59451
SEQUENCE:3
DTSTAMP:20260420T131201Z
URL:https://members.visitblairsvillega.com/events/details/zaxby-s-fundraiser-for-adopt-a-grandparent-59451
END:VEVENT

END:VCALENDAR
