BEGIN:VCALENDAR
VERSION:2.0
PRODID:-//ChamberMaster//Event Calendar 2.0//EN
METHOD:PUBLISH
X-PUBLISHED-TTL:P3D
REFRESH-INTERVAL:P3D
CALSCALE:GREGORIAN
BEGIN:VEVENT
DTSTART:20140213T140000Z
DTEND:20140213T150000Z
X-MICROSOFT-CDO-ALLDAYEVENT:FALSE
SUMMARY:Zumba Classes at Curves of Blairsville
DESCRIPTION:ZUMBA CLASS
X-ALT-DESC;FMTTYPE=text/html:ZUMBA CLASS
LOCATION:215D Blue Ridge St.\, Blairsville
UID:e.256.22921
SEQUENCE:3
DTSTAMP:20260424T165439Z
URL:https://members.visitblairsvillega.com/events/details/zumba-classes-at-curves-of-blairsville-02-13-2014-22921
END:VEVENT

END:VCALENDAR
