BEGIN:VCALENDAR
VERSION:2.0
PRODID:-//ChamberMaster//Event Calendar 2.0//EN
METHOD:PUBLISH
X-PUBLISHED-TTL:P3D
REFRESH-INTERVAL:P3D
CALSCALE:GREGORIAN
BEGIN:VEVENT
DTSTART:20170308T000000Z
DTEND:20170308T033000Z
X-MICROSOFT-CDO-ALLDAYEVENT:FALSE
SUMMARY:ZZ Top in Concert
DESCRIPTION:ZZ Top will take the stage in the Anderson Music Hall at the Georgia Mountain Fairgrounds.
X-ALT-DESC;FMTTYPE=text/html:ZZ Top will take the stage in the Anderson Music Hall at the Georgia Mountain Fairgrounds.
LOCATION:Hiawassee\, GA
UID:e.256.63230
SEQUENCE:3
DTSTAMP:20260420T055736Z
URL:https://members.visitblairsvillega.com/events/details/zz-top-in-concert-63230
END:VEVENT

END:VCALENDAR
